dset ^%y4.bin
OPTIONS TEMPLATE
OPTIONS 365_day_calendar
title Daily Precipitation Anomaly
undef -9.99e8
xdef 240 linear 0 1.5
ydef 121 linear -90 1.5
zdef 1 linear 1 1
tdef 99999 linear 00Z01JAN2010 1440mn
vars 1
rain=>rain 1 t,z,y,x the grid analysis (0.1mm/day)
endvars
